BEGIN:VCALENDAR
VERSION:2.0
PRODID:Events Booking
BEGIN:VEVENT
UID:69e673e4b9b75
SUMMARY:Highlandgames | M.M.O.  
DESCRIPTION:.
LOCATION:2a\, Vlietweg\, Buitenverwachting\, Hoogmade\, Kaag en Braassem\, 
 Zuid-Holland\, Nederland\, 2355 CS\, Nederland
DTSTART:20260419T133000Z
DTEND:20260419T153000Z
DTSTAMP:20230131T211549Z
ORGANIZER;CN=MaximaAL comité:MAILTO:info@maximaalcomite.nl
GEO:52.168831;4.585325
X-APPLE-STRUCTURED-LOCATION;VALUE=URI;X-ADDRESS=2a\, Vlietweg\, Buitenverwa
 chting\, Hoogmade\, Kaag en Braassem\, Zuid-Holland\, Nederland\, 2355 CS\
 , Nederland;X-APPLE-RADIUS=72;X-TITLE=Boerderij Buiten Verwachting:52.1688
 31;4.585325
END:VEVENT
END:VCALENDAR