BEGIN:VCALENDAR
VERSION:2.0
PRODID:Events Booking
BEGIN:VEVENT
UID:69e673feec260
SUMMARY:Duckrace | O.l.v. alle deelnemende verenigingen
DESCRIPTION:
LOCATION:2a\, Vlietweg\, Buitenverwachting\, Hoogmade\, Kaag en Braassem\, 
 Zuid-Holland\, Nederland\, 2355 CS\, Nederland
DTSTART:20260426T143000Z
DTEND:20260426T170000Z
DTSTAMP:20230130T220959Z
ORGANIZER;CN=MaximaAL comité:MAILTO:info@maximaalcomite.nl
GEO:52.168831;4.585325
X-APPLE-STRUCTURED-LOCATION;VALUE=URI;X-ADDRESS=2a\, Vlietweg\, Buitenverwa
 chting\, Hoogmade\, Kaag en Braassem\, Zuid-Holland\, Nederland\, 2355 CS\
 , Nederland;X-APPLE-RADIUS=72;X-TITLE=Boerderij Buiten Verwachting:52.1688
 31;4.585325
END:VEVENT
END:VCALENDAR