BEGIN:VCALENDAR
VERSION:2.0
PRODID:Events Booking
BEGIN:VEVENT
UID:69e6744339c03
SUMMARY:Elfstedentocht | o.l.v. T.V. Hoogmade\, D.I.O.\, T.V. Zolderkolder 
 & de IJsclub
DESCRIPTION:
LOCATION:24\, Hendrik Meijerplantsoen\, Hoogmade\, Kaag en Braassem\, Zuid-
 Holland\, Nederland\, 2355 BN\, Nederland
DTSTART:20260427T114500Z
DTEND:20260427T134500Z
DTSTAMP:20230131T222618Z
ORGANIZER;CN=MaximaAL comité:MAILTO:info@maximaalcomite.nl
GEO:52.170053;4.58011
X-APPLE-STRUCTURED-LOCATION;VALUE=URI;X-ADDRESS=24\, Hendrik Meijerplantsoe
 n\, Hoogmade\, Kaag en Braassem\, Zuid-Holland\, Nederland\, 2355 BN\, Ned
 erland;X-APPLE-RADIUS=72;X-TITLE=Speeltuin Hendrik Meijerplantsoen:52.1700
 53;4.58011
END:VEVENT
END:VCALENDAR