BEGIN:VCALENDAR
VERSION:2.0
PRODID:Events Booking
BEGIN:VEVENT
UID:69e673df11a2f
SUMMARY:Obstakel estafette | o.l.v. IJsclub Hoogmade
DESCRIPTION:
LOCATION:24\, Hendrik Meijerplantsoen\, Hoogmade\, Kaag en Braassem\, Zuid-
 Holland\, Nederland\, 2355 BN\, Nederland
DTSTART:20260421T190000Z
DTEND:20260421T200000Z
DTSTAMP:20230131T213528Z
ORGANIZER;CN=MaximaAL comité:MAILTO:info@maximaalcomite.nl
GEO:52.170053;4.58011
X-APPLE-STRUCTURED-LOCATION;VALUE=URI;X-ADDRESS=24\, Hendrik Meijerplantsoe
 n\, Hoogmade\, Kaag en Braassem\, Zuid-Holland\, Nederland\, 2355 BN\, Ned
 erland;X-APPLE-RADIUS=72;X-TITLE=Speeltuin Hendrik Meijerplantsoen:52.1700
 53;4.58011
END:VEVENT
END:VCALENDAR