BEGIN:VCALENDAR
VERSION:2.0
PRODID:Events Booking
BEGIN:VEVENT
UID:69e675f3b1cb0
SUMMARY:Fiets hem erin | o.l.v. wielerclub Hoogmade
DESCRIPTION:
LOCATION:6\, Hoogmadese Wetering\, Hoogmade\, Kaag en Braassem\, Zuid-Holla
 nd\, Nederland\, 2355 DC\, Nederland
DTSTART:20260422T190000Z
DTEND:20260422T200000Z
DTSTAMP:20240324T170640Z
ORGANIZER;CN=MaximaAL comité:MAILTO:info@maximaalcomite.nl
GEO:52.16974;4.577104
X-APPLE-STRUCTURED-LOCATION;VALUE=URI;X-ADDRESS=6\, Hoogmadese Wetering\, H
 oogmade\, Kaag en Braassem\, Zuid-Holland\, Nederland\, 2355 DC\, Nederlan
 d;X-APPLE-RADIUS=72;X-TITLE=Weidse Wetering:52.16974;4.577104
END:VEVENT
END:VCALENDAR