BEGIN:VCALENDAR
VERSION:2.0
PRODID:Events Booking
BEGIN:VEVENT
UID:69e674dfb981f
SUMMARY:J&R Entertainment
DESCRIPTION:
DTSTART:20260427T140000Z
DTEND:20260427T210000Z
DTSTAMP:20250423T112755Z
ORGANIZER;CN=MaximaAL comité:MAILTO:info@maximaalcomite.nl
END:VEVENT
END:VCALENDAR