BEGIN:VCALENDAR
VERSION:2.0
PRODID:Events Booking
BEGIN:VEVENT
UID:69e67443a6ca5
SUMMARY:Poffertjes tafel | Rick van Schie
DESCRIPTION:
LOCATION:2a\, Vlietweg\, Buitenverwachting\, Hoogmade\, Kaag en Braassem\, 
 Zuid-Holland\, Nederland\, 2355 CS\, Nederland
DTSTART:20260419T130000Z
DTEND:20260419T150000Z
DTSTAMP:20240325T075908Z
ORGANIZER;CN=MaximaAL comité:MAILTO:info@maximaalcomite.nl
GEO:52.168831;4.585325
X-APPLE-STRUCTURED-LOCATION;VALUE=URI;X-ADDRESS=2a\, Vlietweg\, Buitenverwa
 chting\, Hoogmade\, Kaag en Braassem\, Zuid-Holland\, Nederland\, 2355 CS\
 , Nederland;X-APPLE-RADIUS=72;X-TITLE=Boerderij Buiten Verwachting:52.1688
 31;4.585325
END:VEVENT
END:VCALENDAR