BEGIN:VCALENDAR
VERSION:2.0
PRODID:Events Booking
BEGIN:VEVENT
UID:69e675505146f
SUMMARY:Voorjaarsconcert | o.l.v. D.H.H.
DESCRIPTION:
LOCATION:Cultureel Centrum Hoogmade\, 2\, Schoollaan\, Hoogmade\, Kaag en B
 raassem\, Zuid-Holland\, Nederland\, 2355 BS\, Nederland
DTSTART:20260418T200000Z
DTEND:20260418T000000Z
DTSTAMP:20230308T083507Z
ORGANIZER;CN=MaximaAL comité:MAILTO:info@maximaalcomite.nl
GEO:52.168398;4.581664
X-APPLE-STRUCTURED-LOCATION;VALUE=URI;X-ADDRESS=Cultureel Centrum Hoogmade\
 , 2\, Schoollaan\, Hoogmade\, Kaag en Braassem\, Zuid-Holland\, Nederland\
 , 2355 BS\, Nederland;X-APPLE-RADIUS=72;X-TITLE=De schuur:52.168398;4.5816
 64
END:VEVENT
END:VCALENDAR