BEGIN:VCALENDAR
VERSION:2.0
PRODID:Events Booking
BEGIN:VEVENT
UID:69e673a01a471
SUMMARY:Virtual Reality | Aangeboden door het MaximaAL Comité
DESCRIPTION:
LOCATION:Kerkje aan de Does\, Vissersweg\, Hoogmade\, Kaag en Braassem\, Zu
 id-Holland\, Nederland\, 2355 AL\, Nederland
DTSTART:20260427T140000Z
DTEND:20260427T180000Z
DTSTAMP:20230131T223532Z
ORGANIZER;CN=MaximaAL comité:MAILTO:info@maximaalcomite.nl
GEO:52.169216;4.583863
X-APPLE-STRUCTURED-LOCATION;VALUE=URI;X-ADDRESS=Kerkje aan de Does\, Visser
 sweg\, Hoogmade\, Kaag en Braassem\, Zuid-Holland\, Nederland\, 2355 AL\, 
 Nederland;X-APPLE-RADIUS=72;X-TITLE=Kerkje aan de Does:52.169216;4.583863
END:VEVENT
END:VCALENDAR