BEGIN:VCALENDAR
VERSION:2.0
PRODID:Events Booking
BEGIN:VEVENT
UID:69e641928df0e
SUMMARY:Afterparty | o.l.v. Figleaves 2.0 & Inspiratie
DESCRIPTION:
DTSTART:20250427T143000Z
DTSTAMP:20250316T102650Z
ORGANIZER;CN=MaximaAL comité:MAILTO:info@maximaalcomite.nl
END:VEVENT
END:VCALENDAR