BEGIN:VCALENDAR
VERSION:2.0
PRODID:Events Booking
BEGIN:VEVENT
UID:69e642af6508b
SUMMARY:Jeugdtoneel
DESCRIPTION:
LOCATION:Cultureel Centrum Hoogmade\, 2\, Schoollaan\, Hoogmade\, Kaag en B
 raassem\, Zuid-Holland\, Nederland\, 2355 BS\, Nederland
DTSTART:20240419T201500Z
DTEND:20240419T223000Z
DTSTAMP:20240324T154806Z
ORGANIZER;CN=MaximaAL comité:MAILTO:info@maximaalcomite.nl
GEO:52.168398;4.581664
X-APPLE-STRUCTURED-LOCATION;VALUE=URI;X-ADDRESS=Cultureel Centrum Hoogmade\
 , 2\, Schoollaan\, Hoogmade\, Kaag en Braassem\, Zuid-Holland\, Nederland\
 , 2355 BS\, Nederland;X-APPLE-RADIUS=72;X-TITLE=De schuur:52.168398;4.5816
 64
END:VEVENT
END:VCALENDAR