BEGIN:VCALENDAR
VERSION:2.0
PRODID:Events Booking
BEGIN:VEVENT
UID:69e6411cb5da1
SUMMARY:Keezen toernooi | o.l.v. de Keezenclub
DESCRIPTION:
LOCATION:51a\, Kerkstraat\, Hoogmade\, Kaag en Braassem\, Zuid-Holland\, Ne
 derland\, 2355 AG\, Nederland
DTSTART:20260424T200000Z
DTEND:20260424T230000Z
DTSTAMP:20240315T103912Z
ORGANIZER;CN=MaximaAL comité:MAILTO:info@maximaalcomite.nl
GEO:52.168297;4.58123
X-APPLE-STRUCTURED-LOCATION;VALUE=URI;X-ADDRESS=51a\, Kerkstraat\, Hoogmade
 \, Kaag en Braassem\, Zuid-Holland\, Nederland\, 2355 AG\, Nederland;X-APP
 LE-RADIUS=72;X-TITLE=De Stal:52.168297;4.58123
END:VEVENT
END:VCALENDAR