BEGIN:VCALENDAR
VERSION:2.0
PRODID:Events Booking
BEGIN:VEVENT
UID:69e641bb4e735
SUMMARY:Kofferbak verkoop | Zomerspelen
DESCRIPTION:
LOCATION:Hoogmade\, 2355 BT Zuid-Holland\, Nederland
DTSTART:20260427T103000Z
DTEND:20260427T113000Z
DTSTAMP:20230305T211318Z
ORGANIZER;CN=MaximaAL comité:MAILTO:info@maximaalcomite.nl
GEO:52.168718;4.58225
X-APPLE-STRUCTURED-LOCATION;VALUE=URI;X-ADDRESS=Hoogmade\, 2355 BT Zuid-Hol
 land\, Nederland;X-APPLE-RADIUS=72;X-TITLE=Plein bij de Coop:52.168718;4.5
 8225
END:VEVENT
END:VCALENDAR