BEGIN:VCALENDAR
VERSION:2.0
PRODID:Events Booking
BEGIN:VEVENT
UID:69e6411c51f41
SUMMARY:Lego | Aangeboden door het MaximaAL Comité
DESCRIPTION:
LOCATION:Brasserie De Kromme Does\, Vissersweg\, Hoogmade\, Kaag en Braasse
 m\, Zuid-Holland\, Nederland\, 2355 AL\, Nederland
DTSTART:20260427T140000Z
DTEND:20260427T180000Z
DTSTAMP:20230131T223649Z
ORGANIZER;CN=MaximaAL comité:MAILTO:info@maximaalcomite.nl
GEO:52.169295;4.584544
X-APPLE-STRUCTURED-LOCATION;VALUE=URI;X-ADDRESS=Brasserie De Kromme Does\, 
 Vissersweg\, Hoogmade\, Kaag en Braassem\, Zuid-Holland\, Nederland\, 2355
  AL\, Nederland;X-APPLE-RADIUS=72;X-TITLE=Brasserie de Kromme Does:52.1692
 95;4.584544
END:VEVENT
END:VCALENDAR