BEGIN:VCALENDAR
VERSION:2.0
PRODID:Events Booking
BEGIN:VEVENT
UID:69e8b958b8a0c
SUMMARY:Koffie-inloop + Quiz + Lunch  | o.l.v. de Stiwo
DESCRIPTION:
LOCATION:Basisschool Ter Does\, Schoollaan\, Hoogmade\, Kaag en Braassem\, 
 Zuid-Holland\, Nederland\, 2355 BS\, Nederland
DTSTART:20260423T100000Z
DTEND:20260423T130000Z
DTSTAMP:20230131T221209Z
ORGANIZER;CN=MaximaAL comité:MAILTO:info@maximaalcomite.nl
GEO:52.168343;4.580966
X-APPLE-STRUCTURED-LOCATION;VALUE=URI;X-ADDRESS=Basisschool Ter Does\, Scho
 ollaan\, Hoogmade\, Kaag en Braassem\, Zuid-Holland\, Nederland\, 2355 BS\
 , Nederland;X-APPLE-RADIUS=72;X-TITLE=Het Drieluik:52.168343;4.580966
END:VEVENT
END:VCALENDAR