BEGIN:VCALENDAR
VERSION:2.0
PRODID:Events Booking
BEGIN:VEVENT
UID:69e8ba0bd42ba
SUMMARY:🎉👑 De Koninklijke Parade van Hoogmade 👑🎉 | Ouderraad IK
 C ter Does
DESCRIPTION:
LOCATION:Basisschool Ter Does\, Schoollaan\, Hoogmade\, Kaag en Braassem\, 
 Zuid-Holland\, Nederland\, 2355 BS\, Nederland
DTSTART:20260427T093000Z
DTEND:20260427T103000Z
DTSTAMP:20230131T221941Z
ORGANIZER;CN=MaximaAL comité:MAILTO:info@maximaalcomite.nl
GEO:52.168591;4.581448
X-APPLE-STRUCTURED-LOCATION;VALUE=URI;X-ADDRESS=Basisschool Ter Does\, Scho
 ollaan\, Hoogmade\, Kaag en Braassem\, Zuid-Holland\, Nederland\, 2355 BS\
 , Nederland;X-APPLE-RADIUS=72;X-TITLE=basisschool Ter Does:52.168591;4.581
 448
END:VEVENT
END:VCALENDAR