BEGIN:VCALENDAR
VERSION:2.0
PRODID:Events Booking
BEGIN:VEVENT
UID:69e8ba6d913bd
SUMMARY:Vang de Goudvis! | o.l.v. H.S.V. de Eindsprint
DESCRIPTION:
LOCATION:7s-6\, Oude Kerkweg\, Hoogmade\, Kaag en Braassem\, Zuid-Holland\,
  Nederland\, 2355 AT\, Nederland
DTSTART:20260423T153000Z
DTEND:20260423T170000Z
DTSTAMP:20230130T230344Z
ORGANIZER;CN=MaximaAL comité:MAILTO:info@maximaalcomite.nl
GEO:52.174125;4.584559
X-APPLE-STRUCTURED-LOCATION;VALUE=URI;X-ADDRESS=7s-6\, Oude Kerkweg\, Hoogm
 ade\, Kaag en Braassem\, Zuid-Holland\, Nederland\, 2355 AT\, Nederland;X-
 APPLE-RADIUS=72;X-TITLE=Van der Lanen Eiland:52.174125;4.584559
END:VEVENT
END:VCALENDAR